BEGIN:VCALENDAR
VERSION:2.0
PRODID:-//Women Lawyers of Charlotte - ECPv6.15.20//NONSGML v1.0//EN
CALSCALE:GREGORIAN
METHOD:PUBLISH
X-WR-CALNAME:Women Lawyers of Charlotte
X-ORIGINAL-URL:https://wlclt.org
X-WR-CALDESC:Events for Women Lawyers of Charlotte
REFRESH-INTERVAL;VALUE=DURATION:PT1H
X-Robots-Tag:noindex
X-PUBLISHED-TTL:PT1H
BEGIN:VTIMEZONE
TZID:UTC
BEGIN:STANDARD
TZOFFSETFROM:+0000
TZOFFSETTO:+0000
TZNAME:UTC
DTSTART:20230101T000000
END:STANDARD
END:VTIMEZONE
BEGIN:VEVENT
DTSTART;TZID=UTC:20241017T160000
DTEND;TZID=UTC:20241017T190000
DTSTAMP:20260422T104158
CREATED:20240918T224345Z
LAST-MODIFIED:20241007T153356Z
UID:129-1729180800-1729191600@wlclt.org
SUMMARY:WLC's October Social and Head Shot Event
DESCRIPTION:Mark your calendars for WLC’s October Social and Head Shot Event at The Duke Mansion! \nNeed new head shots? Join us Thursday\, October 17\, 2024\, at 4 pm at The Duke Mansion to enjoy the beautiful gardens and get your head shot taken by our guest photographer. \nFood and beverages will be provided while we make the most of October weather! Space is limited so register now. $25 for members and $40 for non members. Feel free to bring a lawyer friend who may want or need a new head shot (make sure to also register them)!
URL:https://wlclt.org/event/wlcs-october-social-and-head-shot-event/
LOCATION:Duke Mansion\, 400 Hermitage Road\, Charlotte\, NC\, 28207\, United States
ATTACH;FMTTYPE=image/jpeg:https://wlclt.org/wp-content/uploads/Duke-Mansion-event.jpeg
END:VEVENT
END:VCALENDAR