BEGIN:VCALENDAR
VERSION:2.0
PRODID:-//Women Lawyers of Charlotte - ECPv6.15.20//NONSGML v1.0//EN
CALSCALE:GREGORIAN
METHOD:PUBLISH
X-WR-CALNAME:Women Lawyers of Charlotte
X-ORIGINAL-URL:https://wlclt.org
X-WR-CALDESC:Events for Women Lawyers of Charlotte
REFRESH-INTERVAL;VALUE=DURATION:PT1H
X-Robots-Tag:noindex
X-PUBLISHED-TTL:PT1H
BEGIN:VTIMEZONE
TZID:UTC
BEGIN:STANDARD
TZOFFSETFROM:+0000
TZOFFSETTO:+0000
TZNAME:UTC
DTSTART:20230101T000000
END:STANDARD
END:VTIMEZONE
BEGIN:VEVENT
DTSTART;TZID=UTC:20240912T193000
DTEND;TZID=UTC:20240912T223000
DTSTAMP:20260421T193021
CREATED:20240822T170106Z
LAST-MODIFIED:20240822T170106Z
UID:126-1726169400-1726180200@wlclt.org
SUMMARY:WLC's September Movie Night
DESCRIPTION:Join us Thursday\, September 12\, 2024\, at 7:30 pm at The Crossroads Cinema at Camp North End to watch The Devil Wears Prada under the stars. The movie begins at 8pm but we will meet at 7:30 to ensure space. It’s BYOC/B/B (bring your own chair/blanket and beverages or buy food and drink there). Free for all so feel free to invite friends and family. Camp North End is located at 300 Camp Road\, Charlotte 28206. Click here to see Camp North End’s website.
URL:https://wlclt.org/event/wlcs-september-movie-night/
LOCATION:Camp North End\, 300 Camp Road\, Charlotte\, NC\, 28206\, United States
END:VEVENT
BEGIN:VEVENT
DTSTART;TZID=UTC:20240825T160000
DTEND;TZID=UTC:20240825T190000
DTSTAMP:20260421T193021
CREATED:20240808T201910Z
LAST-MODIFIED:20240808T201910Z
UID:123-1724601600-1724612400@wlclt.org
SUMMARY:Ronald McDonald House Dinner Crew!
DESCRIPTION:Join WLC on the evening of Sunday\, August 25\, 2024 as we prepare dinner for family members of ill or injured children who are staying at the Ronald McDonald House in Charlotte. For more information on the mission of our local Ronald McDonald House\, please visit: About – Ronald McDonald House Charities of Greater Charlotte (rmhclt.org) \nWLC will cover the cost of food\, all we need is your time! The commitment is from 4:00 p.m. to 7:00 p.m. and involves set up\, food prep\, food serving\, and breakdown. Please note: we must commit an exact number of volunteers to RMH to ensure we have enough women to serve dinner\, so please only sign up if you’re sure you can join us! Please register at the link below. \nIf the event is full and you are interested in joining\, please email Community Service Co-Chair Emma Chase-Swartz at echase@littler.com to be placed on the waitlist.
URL:https://wlclt.org/event/ronald-mcdonald-house-dinner-crew/
LOCATION:Ronald McDonald House\, 1613 E. Morehead Street\, Charlotte\, NC
END:VEVENT
BEGIN:VEVENT
DTSTART;TZID=UTC:20240725T181500
DTEND;TZID=UTC:20240725T201500
DTSTAMP:20260421T193021
CREATED:20240702T133238Z
LAST-MODIFIED:20240715T055924Z
UID:102-1721931300-1721938500@wlclt.org
SUMMARY:July Social at Rally Pickleball!
DESCRIPTION:Join Us For WLC’s July Social at Rally Pickleball for some fun on the indoor courts! Equipment\, light food\, and bevvies will be provided!
URL:https://wlclt.org/event/summer-associate-new-attorney-social/
LOCATION:Rally Pickleball\, 101 Southside Dr\, Charlotte\, NC\, 28217\, United States
ATTACH;FMTTYPE=image/webp:https://wlclt.org/wp-content/uploads/Women-Drinking-Coffee.webp
END:VEVENT
END:VCALENDAR