BEGIN:VCALENDAR
VERSION:2.0
PRODID:-//Women Lawyers of Charlotte - ECPv6.15.20//NONSGML v1.0//EN
CALSCALE:GREGORIAN
METHOD:PUBLISH
X-WR-CALNAME:Women Lawyers of Charlotte
X-ORIGINAL-URL:https://wlclt.org
X-WR-CALDESC:Events for Women Lawyers of Charlotte
REFRESH-INTERVAL;VALUE=DURATION:PT1H
X-Robots-Tag:noindex
X-PUBLISHED-TTL:PT1H
BEGIN:VTIMEZONE
TZID:UTC
BEGIN:STANDARD
TZOFFSETFROM:+0000
TZOFFSETTO:+0000
TZNAME:UTC
DTSTART:20240101T000000
END:STANDARD
END:VTIMEZONE
BEGIN:VEVENT
DTSTART;TZID=UTC:20251002T160000
DTEND;TZID=UTC:20251002T193000
DTSTAMP:20260422T021207
CREATED:20250707T132057Z
LAST-MODIFIED:20250707T132057Z
UID:174-1759420800-1759433400@wlclt.org
SUMMARY:WLC Headshot Event at Duke Mansion
DESCRIPTION:WLC Headshot Event at Duke Mansion at 4pm on Thursday\, October 2\, 2025 \nLast year’s event was such a big success that we are going back to Duke Mansion for another round of professional photos in one of Charlotte’s most beautiful and iconic outdoor settings. $25 for WLC members and $40 for non-members. Registration includes wine\, snacks and the cost of your favorite headshot. \nSave your spot and register here!
URL:https://wlclt.org/event/wlc-headshot-event-at-duke-mansion/
LOCATION:Duke Mansion\, 400 Hermitage Road\, Charlotte\, NC\, 28207\, United States
END:VEVENT
BEGIN:VEVENT
DTSTART;TZID=UTC:20251216T180000
DTEND;TZID=UTC:20251216T220000
DTSTAMP:20260422T021207
CREATED:20251205T171919Z
LAST-MODIFIED:20251205T171919Z
UID:180-1765908000-1765922400@wlclt.org
SUMMARY:End of Year Party
DESCRIPTION:
URL:https://wlclt.org/event/end-of-year-party/
LOCATION:Frenchy’s Sip and Shop\, 200 W Tremont Ave\, Suite 103\, Charlotte\, NC\, 28203\, United States
ATTACH;FMTTYPE=image/png:https://wlclt.org/wp-content/uploads/6-10.png
END:VEVENT
BEGIN:VEVENT
DTSTART;TZID=UTC:20260211T180000
DTEND;TZID=UTC:20260211T200000
DTSTAMP:20260422T021207
CREATED:20260126T182043Z
LAST-MODIFIED:20260202T165956Z
UID:183-1770832800-1770840000@wlclt.org
SUMMARY:2026 kick-off event at Stable Hand
DESCRIPTION:We’re excited to invite you to our 2026 kick-off event at Stable Hand! \nThis will be a wonderful opportunity to come together as we celebrate the achievements of 2025 and look ahead to the year to come. We’ll be presenting the Women of the Year Award for 2025\, honoring an exceptional member of our community\, and sharing important updates and initiatives to watch for in 2026. \nWe look forward to seeing you there! Please register at the below link by February 10\, 2026.
URL:https://wlclt.org/event/2026-kick-off-event-at-stable-hand/
LOCATION:Stable Hand\, 125 Remount Road\, Charlotte\, NC\, 28203
END:VEVENT
BEGIN:VEVENT
DTSTART;TZID=UTC:20260328T114500
DTEND;TZID=UTC:20260328T124500
DTSTAMP:20260422T021207
CREATED:20260306T214355Z
LAST-MODIFIED:20260306T214355Z
UID:194-1774698300-1774701900@wlclt.org
SUMMARY:WLC Sweat Event March 2026
DESCRIPTION:Join Us for a WLC Sweat Event!\n\nWLC is excited to host a Sweat Event at The Jungle Studio\, located at 800 Gesco Street #103\, Charlotte\, NC 28208. \n\nPlease plan to arrive about 10 minutes early to allow time to get settled before class begins. Shoes and all necessary equipment will be provided\, but please remember to bring water.\n\nThe cost is $5 for WLC members and $10 for non-members. Spots are limited\, so we encourage you to sign up through our website in advance to reserve your place.\n\nIf you have any questions\, please don’t hesitate to reach out. We hope to see you there!
URL:https://wlclt.org/event/wlc-sweat-event-march-2026/
LOCATION:The Jungle Studio\, 800 Gesco Street #103\, Charlotte\, NC\, 28208
ATTACH;FMTTYPE=image/png:https://wlclt.org/wp-content/uploads/Blue-and-Beige-Typographic-Modern-Cafe-Coffee-Event-Announcement-Instagram-Post.png
END:VEVENT
BEGIN:VEVENT
DTSTART;TZID=UTC:20260423T120000
DTEND;TZID=UTC:20260423T133000
DTSTAMP:20260422T021207
CREATED:20260331T220503Z
LAST-MODIFIED:20260331T220503Z
UID:198-1776945600-1776951000@wlclt.org
SUMMARY:WLC CLE April 2026: AI in the Modern Legal Practice
DESCRIPTION:Women Lawyers of Charlotte invites you to join us for a CLE at Legion Brewing – SouthPark on the role of AI in the Modern Legal Practice\, presented by Hilary Fankhauser. This program will explore how artificial intelligence is reshaping legal work\, offering practical insights for today’s practitioners.\nThis CLE is approved for 1.0 hour of Ethics credit.\nLunch and refreshments will be provided.\nThis event is free for WLC members. Non-members: $25. \nWe look forward to seeing you there!
URL:https://wlclt.org/event/wlc-cle-april-2026-ai-in-the-modern-legal-practice/
LOCATION:Legion Brewing SouthPark\, 5610 Carnegie Blvd.\, Charlotte\, NC\, 28209\, United States
ATTACH;FMTTYPE=image/png:https://wlclt.org/wp-content/uploads/Green-Pink-Creative-Corporate-Event-Keynote-Speaker-Flyer-1.png
END:VEVENT
END:VCALENDAR