BEGIN:VCALENDAR
VERSION:2.0
PRODID:-//Women Lawyers of Charlotte - ECPv6.15.20//NONSGML v1.0//EN
CALSCALE:GREGORIAN
METHOD:PUBLISH
X-WR-CALNAME:Women Lawyers of Charlotte
X-ORIGINAL-URL:https://wlclt.org
X-WR-CALDESC:Events for Women Lawyers of Charlotte
REFRESH-INTERVAL;VALUE=DURATION:PT1H
X-Robots-Tag:noindex
X-PUBLISHED-TTL:PT1H
BEGIN:VTIMEZONE
TZID:UTC
BEGIN:STANDARD
TZOFFSETFROM:+0000
TZOFFSETTO:+0000
TZNAME:UTC
DTSTART:20240101T000000
END:STANDARD
END:VTIMEZONE
BEGIN:VEVENT
DTSTART;TZID=UTC:20251002T160000
DTEND;TZID=UTC:20251002T193000
DTSTAMP:20260421T153352
CREATED:20250707T132057Z
LAST-MODIFIED:20250707T132057Z
UID:174-1759420800-1759433400@wlclt.org
SUMMARY:WLC Headshot Event at Duke Mansion
DESCRIPTION:WLC Headshot Event at Duke Mansion at 4pm on Thursday\, October 2\, 2025 \nLast year’s event was such a big success that we are going back to Duke Mansion for another round of professional photos in one of Charlotte’s most beautiful and iconic outdoor settings. $25 for WLC members and $40 for non-members. Registration includes wine\, snacks and the cost of your favorite headshot. \nSave your spot and register here!
URL:https://wlclt.org/event/wlc-headshot-event-at-duke-mansion/
LOCATION:Duke Mansion\, 400 Hermitage Road\, Charlotte\, NC\, 28207\, United States
END:VEVENT
END:VCALENDAR