BEGIN:VCALENDAR
VERSION:2.0
PRODID:-//Women Lawyers of Charlotte - ECPv6.15.20//NONSGML v1.0//EN
CALSCALE:GREGORIAN
METHOD:PUBLISH
X-WR-CALNAME:Women Lawyers of Charlotte
X-ORIGINAL-URL:https://wlclt.org
X-WR-CALDESC:Events for Women Lawyers of Charlotte
REFRESH-INTERVAL;VALUE=DURATION:PT1H
X-Robots-Tag:noindex
X-PUBLISHED-TTL:PT1H
BEGIN:VTIMEZONE
TZID:UTC
BEGIN:STANDARD
TZOFFSETFROM:+0000
TZOFFSETTO:+0000
TZNAME:UTC
DTSTART:20240101T000000
END:STANDARD
END:VTIMEZONE
BEGIN:VEVENT
DTSTART;TZID=UTC:20250305T153000
DTEND;TZID=UTC:20250305T173000
DTSTAMP:20260422T035836
CREATED:20250212T212408Z
LAST-MODIFIED:20250212T212408Z
UID:152-1741188600-1741195800@wlclt.org
SUMMARY:"Color It Blue" Ribbon-Making Event with Brave Step
DESCRIPTION:Please join us for WLC’s first community service engagement of 2025 at the “Color It Blue” Ribbon-Making Event with Brave Step. \nVolunteers will assemble blue ribbons\, a symbol of hope and awareness for those affected by sexual violence\, in preparation for Sexual Assault Awareness Month and National Child Abuse Prevention Month in April. For more information\, check out this link: “Color It Blue” Ribbon-Making Event – Brave Step
URL:https://wlclt.org/event/color-it-blue-ribbon-making-event-with-brave-step/
LOCATION:Amelie’s\, 136 East 36th Street\, Charlotte\, NC\, United States
END:VEVENT
END:VCALENDAR