BEGIN:VCALENDAR
VERSION:2.0
PRODID:-//Women Lawyers of Charlotte - ECPv6.15.20//NONSGML v1.0//EN
CALSCALE:GREGORIAN
METHOD:PUBLISH
X-WR-CALNAME:Women Lawyers of Charlotte
X-ORIGINAL-URL:https://wlclt.org
X-WR-CALDESC:Events for Women Lawyers of Charlotte
REFRESH-INTERVAL;VALUE=DURATION:PT1H
X-Robots-Tag:noindex
X-PUBLISHED-TTL:PT1H
BEGIN:VTIMEZONE
TZID:UTC
BEGIN:STANDARD
TZOFFSETFROM:+0000
TZOFFSETTO:+0000
TZNAME:UTC
DTSTART:20230101T000000
END:STANDARD
END:VTIMEZONE
BEGIN:VEVENT
DTSTART;TZID=UTC:20241212T180000
DTEND;TZID=UTC:20241212T200000
DTSTAMP:20260422T084526
CREATED:20241028T233244Z
LAST-MODIFIED:20241028T233244Z
UID:133-1734026400-1734033600@wlclt.org
SUMMARY:WLC 2024 End of Year Party
DESCRIPTION:Time to party with WLC! Join us for our End of Year Event on December 12th \nThe end of the year is fast approaching\, and we cannot wait to celebrate with you and enjoy the holiday season. Join us at Mere’s located in Dilworth for a festive evening of wine and cheese and charcuterie. Fun holiday attire is not required but definitely encouraged! Details below. Register now and bring a friend. \nEveryone who attends will be entered into a raffle for a $50 gift card. For every additional guest you register\, you will be entered for an additional ticket in the raffle! \n\nWhen: Thursday\, December 12th \nTime: 6pm-8pm \nAttire: Holiday festive! \nWhere: Mere’s located at 2400 Park Rd \nCost: Free for members\, $20 for non-members
URL:https://wlclt.org/event/wlc-2024-end-of-year-party/
LOCATION:Mere’s\, 2400 Park Road\, Charlotte\, NC\, 28203
ATTACH;FMTTYPE=image/jpeg:https://wlclt.org/wp-content/uploads/WLC-2024-End-of-Year-Party.jpeg
END:VEVENT
END:VCALENDAR